Package: GDSArray Version: 1.26.0 Command: /Library/Frameworks/R.framework/Resources/bin/R CMD build --keep-empty-dirs --no-resave-data GDSArray StartedAt: 2025-02-03 19:05:05 -0500 (Mon, 03 Feb 2025) EndedAt: 2025-02-03 19:06:05 -0500 (Mon, 03 Feb 2025) EllapsedTime: 60.0 seconds RetCode: 0 Status: OK PackageFile: GDSArray_1.26.0.tar.gz PackageFileSize: 305.6 KiB