Package: GDSArray Version: 1.26.0 Command: /Library/Frameworks/R.framework/Resources/bin/R CMD check --install=check:GDSArray.install-out.txt --library=/Library/Frameworks/R.framework/Resources/library --no-vignettes --timings GDSArray_1.26.0.tar.gz StartedAt: 2025-02-04 04:00:26 -0500 (Tue, 04 Feb 2025) EndedAt: 2025-02-04 04:04:54 -0500 (Tue, 04 Feb 2025) EllapsedTime: 267.7 seconds RetCode: 0 Status: WARNINGS CheckDir: GDSArray.Rcheck Warnings: 2