Package: GDSArray Version: 1.26.0 Command: /home/biocbuild/R/R/bin/R CMD build --keep-empty-dirs --no-resave-data GDSArray StartedAt: 2025-02-03 23:45:26 -0000 (Mon, 03 Feb 2025) EndedAt: 2025-02-03 23:45:59 -0000 (Mon, 03 Feb 2025) EllapsedTime: 33.0 seconds RetCode: 0 Status: OK PackageFile: GDSArray_1.26.0.tar.gz PackageFileSize: 372 KiB