Package: GDSArray Version: 1.26.0 Command: /home/biocbuild/R/R/bin/R CMD check --install=check:GDSArray.install-out.txt --library=/home/biocbuild/R/R/site-library --no-vignettes --timings GDSArray_1.26.0.tar.gz StartedAt: 2025-02-04 07:11:53 -0000 (Tue, 04 Feb 2025) EndedAt: 2025-02-04 07:14:15 -0000 (Tue, 04 Feb 2025) EllapsedTime: 142.1 seconds RetCode: 0 Status: WARNINGS CheckDir: GDSArray.Rcheck Warnings: 2