Package: GDSArray Version: 1.26.0 Command: /home/biocbuild/R/R/bin/R CMD INSTALL GDSArray StartedAt: 2025-02-03 20:31:55 -0000 (Mon, 03 Feb 2025) EndedAt: 2025-02-03 20:32:16 -0000 (Mon, 03 Feb 2025) EllapsedTime: 20.9 seconds RetCode: 0 Status: OK