Package: GEM Version: 1.32.0 Command: /Library/Frameworks/R.framework/Resources/bin/R CMD check --install=check:GEM.install-out.txt --library=/Library/Frameworks/R.framework/Resources/library --no-vignettes --timings GEM_1.32.0.tar.gz StartedAt: 2025-02-04 20:31:55 -0500 (Tue, 04 Feb 2025) EndedAt: 2025-02-04 20:33:04 -0500 (Tue, 04 Feb 2025) EllapsedTime: 69.3 seconds RetCode: 0 Status: OK CheckDir: GEM.Rcheck Warnings: 0