Package: GEM Version: 1.32.0 Command: chmod a+r GEM -R && F:\biocbuild\bbs-3.20-bioc\R\bin\R.exe CMD build --keep-empty-dirs --no-resave-data GEM StartedAt: 2025-02-03 19:20:31 -0500 (Mon, 03 Feb 2025) EndedAt: 2025-02-03 19:21:06 -0500 (Mon, 03 Feb 2025) EllapsedTime: 34.6 seconds RetCode: 0 Status: OK PackageFile: GEM_1.32.0.tar.gz PackageFileSize: 419.4 KiB