Package: GEM Version: 1.32.0 Command: /home/biocbuild/R/R/bin/R CMD INSTALL GEM StartedAt: 2025-02-03 20:28:44 -0000 (Mon, 03 Feb 2025) EndedAt: 2025-02-03 20:28:56 -0000 (Mon, 03 Feb 2025) EllapsedTime: 12.5 seconds RetCode: 0 Status: OK