Package: GENESIS Version: 2.36.0 Command: /Library/Frameworks/R.framework/Resources/bin/R CMD build --keep-empty-dirs --no-resave-data GENESIS StartedAt: 2025-02-04 00:07:31 -0500 (Tue, 04 Feb 2025) EndedAt: 2025-02-04 00:09:39 -0500 (Tue, 04 Feb 2025) EllapsedTime: 128.5 seconds RetCode: 0 Status: OK PackageFile: GENESIS_2.36.0.tar.gz PackageFileSize: 3.845 MiB