Package: GENESIS Version: 2.36.0 Command: /Library/Frameworks/R.framework/Resources/bin/R CMD check --install=check:GENESIS.install-out.txt --library=/Library/Frameworks/R.framework/Resources/library --no-vignettes --timings GENESIS_2.36.0.tar.gz StartedAt: 2025-02-04 20:41:58 -0500 (Tue, 04 Feb 2025) EndedAt: 2025-02-04 20:49:00 -0500 (Tue, 04 Feb 2025) EllapsedTime: 421.7 seconds RetCode: 0 Status: OK CheckDir: GENESIS.Rcheck Warnings: 0