Package: GENESIS Version: 2.36.0 Command: /Library/Frameworks/R.framework/Resources/bin/R CMD INSTALL GENESIS StartedAt: 2025-02-03 17:31:54 -0500 (Mon, 03 Feb 2025) EndedAt: 2025-02-03 17:32:24 -0500 (Mon, 03 Feb 2025) EllapsedTime: 30.5 seconds RetCode: 0 Status: OK