Package: GENESIS Version: 2.36.0 Command: /home/biocbuild/bbs-3.20-bioc/R/bin/R CMD build --keep-empty-dirs --no-resave-data --md5 GENESIS StartedAt: 2025-02-03 17:32:06 -0500 (Mon, 03 Feb 2025) EndedAt: 2025-02-03 17:33:42 -0500 (Mon, 03 Feb 2025) EllapsedTime: 95.1 seconds RetCode: 0 Status: OK PackageFile: GENESIS_2.36.0.tar.gz PackageFileSize: 3.818 MiB