Package: GENESIS Version: 2.36.0 Command: /home/biocbuild/bbs-3.20-bioc/R/bin/R CMD INSTALL GENESIS StartedAt: 2025-02-03 15:57:14 -0500 (Mon, 03 Feb 2025) EndedAt: 2025-02-03 15:57:41 -0500 (Mon, 03 Feb 2025) EllapsedTime: 27.4 seconds RetCode: 0 Status: OK