Package: GENESIS
Version: 2.35.0
Command: rm -rf GENESIS.buildbin-libdir && mkdir GENESIS.buildbin-libdir && F:\biocbuild\bbs-3.20-bioc\R\bin\R.exe CMD INSTALL --build --library=GENESIS.buildbin-libdir GENESIS_2.35.0.tar.gz
StartedAt: 2024-06-10 13:42:53 -0400 (Mon, 10 Jun 2024)
EndedAt: 2024-06-10 13:44:28 -0400 (Mon, 10 Jun 2024)
EllapsedTime: 94.4 seconds
RetCode: 0
Status: OK
PackageFile: GENESIS_2.35.0.zip
PackageFileSize: 3.212 <A href="http://en.wikipedia.org/wiki/MiB" target="_blank">MiB</A>