Package: GENIE3 Version: 1.28.0 Command: rm -rf GENIE3.buildbin-libdir && mkdir GENIE3.buildbin-libdir && /Users/biocbuild/BBS/utils/build-universal.sh GENIE3_1.28.0.tar.gz /Library/Frameworks/R.framework/Resources/bin/R GENIE3.buildbin-libdir StartedAt: 2025-02-04 13:00:45 -0500 (Tue, 04 Feb 2025) EndedAt: 2025-02-04 13:01:01 -0500 (Tue, 04 Feb 2025) EllapsedTime: 16.3 seconds RetCode: 0 Status: OK PackageFile: GENIE3_1.28.0.tgz PackageFileSize: 264.7 KiB