Package: GENIE3 Version: 1.28.0 Command: /Library/Frameworks/R.framework/Resources/bin/R CMD build --keep-empty-dirs --no-resave-data GENIE3 StartedAt: 2025-02-03 19:08:50 -0500 (Mon, 03 Feb 2025) EndedAt: 2025-02-03 19:09:08 -0500 (Mon, 03 Feb 2025) EllapsedTime: 17.4 seconds RetCode: 0 Status: OK PackageFile: GENIE3_1.28.0.tar.gz PackageFileSize: 241.4 KiB