Package: GENIE3 Version: 1.28.0 Command: /Library/Frameworks/R.framework/Resources/bin/R CMD check --install=check:GENIE3.install-out.txt --library=/Library/Frameworks/R.framework/Resources/library --no-vignettes --timings GENIE3_1.28.0.tar.gz StartedAt: 2025-02-04 04:09:27 -0500 (Tue, 04 Feb 2025) EndedAt: 2025-02-04 04:10:55 -0500 (Tue, 04 Feb 2025) EllapsedTime: 87.8 seconds RetCode: 0 Status: OK CheckDir: GENIE3.Rcheck Warnings: 0