Package: GENIE3 Version: 1.28.0 Command: /Library/Frameworks/R.framework/Resources/bin/R CMD INSTALL GENIE3 StartedAt: 2025-02-03 15:17:22 -0500 (Mon, 03 Feb 2025) EndedAt: 2025-02-03 15:17:47 -0500 (Mon, 03 Feb 2025) EllapsedTime: 25.3 seconds RetCode: 0 Status: OK