Package: GENIE3 Version: 1.28.0 Command: /home/biocbuild/R/R/bin/R CMD INSTALL GENIE3 StartedAt: 2025-02-03 20:26:00 -0000 (Mon, 03 Feb 2025) EndedAt: 2025-02-03 20:26:05 -0000 (Mon, 03 Feb 2025) EllapsedTime: 4.8 seconds RetCode: 0 Status: OK