Package: GEOexplorer Version: 1.12.0 Command: /Library/Frameworks/R.framework/Resources/bin/R CMD build --keep-empty-dirs --no-resave-data GEOexplorer StartedAt: 2025-02-04 00:17:17 -0500 (Tue, 04 Feb 2025) EndedAt: 2025-02-04 00:18:27 -0500 (Tue, 04 Feb 2025) EllapsedTime: 70.4 seconds RetCode: 0 Status: OK PackageFile: GEOexplorer_1.12.0.tar.gz PackageFileSize: 11.26 MiB