Package: GEOexplorer Version: 1.12.0 Command: /Library/Frameworks/R.framework/Resources/bin/R CMD build --keep-empty-dirs --no-resave-data GEOexplorer StartedAt: 2025-02-03 19:12:30 -0500 (Mon, 03 Feb 2025) EndedAt: 2025-02-03 19:14:27 -0500 (Mon, 03 Feb 2025) EllapsedTime: 117.1 seconds RetCode: 0 Status: OK PackageFile: GEOexplorer_1.12.0.tar.gz PackageFileSize: 11.26 MiB