Package: GEOexplorer Version: 1.12.0 Command: /Library/Frameworks/R.framework/Resources/bin/R CMD check --install=check:GEOexplorer.install-out.txt --library=/Library/Frameworks/R.framework/Resources/library --no-vignettes --timings GEOexplorer_1.12.0.tar.gz StartedAt: 2025-02-04 04:20:11 -0500 (Tue, 04 Feb 2025) EndedAt: 2025-02-04 04:32:01 -0500 (Tue, 04 Feb 2025) EllapsedTime: 710.0 seconds RetCode: 0 Status: WARNINGS CheckDir: GEOexplorer.Rcheck Warnings: 1