Package: GEOexplorer Version: 1.12.0 Command: /home/biocbuild/bbs-3.20-bioc/R/bin/R CMD INSTALL GEOexplorer StartedAt: 2025-02-03 16:08:19 -0500 (Mon, 03 Feb 2025) EndedAt: 2025-02-03 16:09:06 -0500 (Mon, 03 Feb 2025) EllapsedTime: 46.9 seconds RetCode: 0 Status: OK