Package: GEOexplorer
Version: 1.11.0
Command: F:\biocbuild\bbs-3.20-bioc\R\bin\R.exe CMD INSTALL GEOexplorer
StartedAt: 2024-06-09 16:54:50 -0400 (Sun, 09 Jun 2024)
EndedAt: 2024-06-09 16:55:46 -0400 (Sun, 09 Jun 2024)
EllapsedTime: 56.4 seconds
RetCode: 0
Status: OK