Package: GEOexplorer Version: 1.12.0 Command: /home/biocbuild/R/R/bin/R CMD INSTALL GEOexplorer StartedAt: 2025-02-03 21:22:13 -0000 (Mon, 03 Feb 2025) EndedAt: 2025-02-03 21:23:33 -0000 (Mon, 03 Feb 2025) EllapsedTime: 80.1 seconds RetCode: 0 Status: OK