Package: GEOfastq Version: 1.14.0 Command: rm -rf GEOfastq.buildbin-libdir && mkdir GEOfastq.buildbin-libdir && /Users/biocbuild/BBS/utils/build-universal.sh GEOfastq_1.14.0.tar.gz /Library/Frameworks/R.framework/Resources/bin/R GEOfastq.buildbin-libdir StartedAt: 2025-02-12 15:15:37 -0500 (Wed, 12 Feb 2025) EndedAt: 2025-02-12 15:15:40 -0500 (Wed, 12 Feb 2025) EllapsedTime: 3.3 seconds RetCode: 0 Status: OK PackageFile: GEOfastq_1.14.0.tgz PackageFileSize: 36.45 KiB