Package: GEOfastq Version: 1.14.0 Command: /Library/Frameworks/R.framework/Resources/bin/R CMD INSTALL GEOfastq StartedAt: 2025-02-03 15:32:55 -0500 (Mon, 03 Feb 2025) EndedAt: 2025-02-03 15:32:57 -0500 (Mon, 03 Feb 2025) EllapsedTime: 2.1 seconds RetCode: 0 Status: OK