Package: GEOmetadb Version: 1.68.1 Command: rm -rf GEOmetadb.buildbin-libdir && mkdir GEOmetadb.buildbin-libdir && F:\biocbuild\bbs-3.20-bioc\R\bin\R.exe CMD INSTALL --build --library=GEOmetadb.buildbin-libdir GEOmetadb_1.68.1.tar.gz StartedAt: 2025-02-04 08:35:45 -0500 (Tue, 04 Feb 2025) EndedAt: 2025-02-04 08:35:58 -0500 (Tue, 04 Feb 2025) EllapsedTime: 12.3 seconds RetCode: 0 Status: OK PackageFile: GEOmetadb_1.68.1.zip PackageFileSize: 401.9 KiB