Package: GEOmetadb Version: 1.68.1 Command: F:\biocbuild\bbs-3.20-bioc\R\bin\R.exe CMD INSTALL GEOmetadb StartedAt: 2025-02-03 15:46:56 -0500 (Mon, 03 Feb 2025) EndedAt: 2025-02-03 15:47:06 -0500 (Mon, 03 Feb 2025) EllapsedTime: 9.9 seconds RetCode: 0 Status: OK