Package: GEOquery Version: 2.74.0 Command: rm -rf GEOquery.buildbin-libdir && mkdir GEOquery.buildbin-libdir && /Users/biocbuild/BBS/utils/build-universal.sh GEOquery_2.74.0.tar.gz /Library/Frameworks/R.framework/Resources/bin/R GEOquery.buildbin-libdir StartedAt: 2025-02-05 16:02:22 -0500 (Wed, 05 Feb 2025) EndedAt: 2025-02-05 16:02:56 -0500 (Wed, 05 Feb 2025) EllapsedTime: 34.4 seconds RetCode: 0 Status: OK PackageFile: GEOquery_2.74.0.tgz PackageFileSize: 13.33 MiB