Package: GEOquery Version: 2.74.0 Command: rm -rf GEOquery.buildbin-libdir && mkdir GEOquery.buildbin-libdir && /Users/biocbuild/BBS/utils/build-universal.sh GEOquery_2.74.0.tar.gz /Library/Frameworks/R.framework/Resources/bin/R GEOquery.buildbin-libdir StartedAt: 2025-02-04 13:03:00 -0500 (Tue, 04 Feb 2025) EndedAt: 2025-02-04 13:04:24 -0500 (Tue, 04 Feb 2025) EllapsedTime: 83.9 seconds RetCode: 0 Status: OK PackageFile: GEOquery_2.74.0.tgz PackageFileSize: 13.33 MiB