Package: GEOquery Version: 2.74.0 Command: /home/biocbuild/bbs-3.20-bioc/R/bin/R CMD build --keep-empty-dirs --no-resave-data --md5 GEOquery StartedAt: 2025-02-03 17:34:55 -0500 (Mon, 03 Feb 2025) EndedAt: 2025-02-03 17:35:47 -0500 (Mon, 03 Feb 2025) EllapsedTime: 52.0 seconds RetCode: 0 Status: OK PackageFile: GEOquery_2.74.0.tar.gz PackageFileSize: 13.07 MiB