Package: GEOquery Version: 2.74.0 Command: chmod a+r GEOquery -R && F:\biocbuild\bbs-3.20-bioc\R\bin\R.exe CMD build --keep-empty-dirs --no-resave-data GEOquery StartedAt: 2025-02-03 19:26:58 -0500 (Mon, 03 Feb 2025) EndedAt: 2025-02-03 19:28:34 -0500 (Mon, 03 Feb 2025) EllapsedTime: 96.6 seconds RetCode: 0 Status: OK PackageFile: GEOquery_2.74.0.tar.gz PackageFileSize: 13.07 MiB