############################################################################## ############################################################################## ### ### Running command: ### ### /home/biocbuild/R/R/bin/R CMD check --install=check:GEOquery.install-out.txt --library=/home/biocbuild/R/R/site-library --no-vignettes --timings GEOquery_2.74.0.tar.gz ### ############################################################################## ############################################################################## * using log directory ‘/home/biocbuild/bbs-3.20-bioc/meat/GEOquery.Rcheck’ * using R version 4.4.2 (2024-10-31) * using platform: aarch64-unknown-linux-gnu * R was compiled by aarch64-unknown-linux-gnu-gcc (GCC) 14.2.0 GNU Fortran (GCC) 12.3.1 (openEuler 12.3.1-36.oe2403) * running under: openEuler 24.03 (LTS) * using session charset: UTF-8 * using option ‘--no-vignettes’ * checking for file ‘GEOquery/DESCRIPTION’ ... OK * checking extension type ... Package * this is package ‘GEOquery’ version ‘2.74.0’ * package encoding: UTF-8 * checking package namespace information ... OK * checking package dependencies ... OK * checking if this is a source package ... OK * checking if there is a namespace ... OK * checking for hidden files and directories ... OK * checking for portable file names ... OK * checking for sufficient/correct file permissions ... OK * checking whether package ‘GEOquery’ can be installed ... OK * checking installed package size ... NOTE installed size is 13.2Mb sub-directories of 1Mb or more: extdata 12.8Mb * checking package directory ... OK * checking ‘build’ directory ... OK * checking DESCRIPTION meta-information ... OK * checking top-level files ... OK * checking for left-over files ... OK * checking index information ... OK * checking package subdirectories ... OK * checking code files for non-ASCII characters ... OK * checking R files for syntax errors ... OK * checking whether the package can be loaded ... OK * checking whether the package can be loaded with stated dependencies ... OK * checking whether the package can be unloaded cleanly ... OK * checking whether the namespace can be loaded with stated dependencies ... OK * checking whether the namespace can be unloaded cleanly ... OK * checking loading without being on the library search path ... OK * checking whether startup messages can be suppressed ... OK * checking dependencies in R code ... NOTE Namespaces in Imports field not imported from: ‘R.utils’ ‘curl’ All declared Imports should be used. Package in Depends field not imported from: ‘methods’ These packages need to be imported from (in the NAMESPACE file) for when this namespace is loaded but not attached. * checking S3 generic/method consistency ... OK * checking replacement functions ... OK * checking foreign function calls ... OK * checking R code for possible problems ... NOTE File ‘GEOquery/R/zzz.R’: .onLoad calls: packageStartupMessage("Setting options('download.file.method.GEOquery'='auto')") packageStartupMessage("Setting options('GEOquery.inmemory.gpl'=FALSE)") See section ‘Good practice’ in '?.onAttach'. .parseGPLTxt: no visible global function definition for ‘new’ .parseGPLWithLimits: no visible global function definition for ‘new’ .parseGSMTxt: no visible global function definition for ‘new’ .parseGSMWithLimits: no visible global function definition for ‘new’ GDS2MA: no visible global function definition for ‘new’ GDS2MA: no visible binding for global variable ‘MA’ GDS2eSet: no visible global function definition for ‘new’ browseGEOAccession: no visible global function definition for ‘browseURL’ browseWebsiteRNASeqSearch: no visible global function definition for ‘browseURL’ fastTabRead: no visible global function definition for ‘read.table’ fastTabRead: no visible global function definition for ‘read.delim’ getRNASeqData: no visible global function definition for ‘as’ parseGDS: no visible global function definition for ‘new’ parseGSE: no visible global function definition for ‘new’ parseGSEMatrix: no visible global function definition for ‘new’ parseGSEMatrix: no visible binding for global variable ‘.’ parseGSEMatrix: no visible binding for global variable ‘characteristics’ parseGSEMatrix: no visible binding for global variable ‘kvpair’ parseGSEMatrix: no visible binding for global variable ‘accession’ parseGSEMatrix: no visible binding for global variable ‘k’ parseGSEMatrix: no visible binding for global variable ‘v’ parseGSEMatrix: no visible global function definition for ‘read.table’ parseGSEMatrix: no visible global function definition for ‘as’ Undefined global functions or variables: . MA accession as browseURL characteristics k kvpair new read.delim read.table v Consider adding importFrom("methods", "as", "new") importFrom("utils", "browseURL", "read.delim", "read.table") to your NAMESPACE file (and ensure that your DESCRIPTION Imports field contains 'methods'). * checking Rd files ... OK * checking Rd metadata ... OK * checking Rd cross-references ... OK * checking for missing documentation entries ... OK * checking for code/documentation mismatches ... OK * checking Rd \usage sections ... OK * checking Rd contents ... OK * checking for unstated dependencies in examples ... OK * checking files in ‘vignettes’ ... OK * checking examples ... OK Examples with CPU (user + system) or elapsed time > 5s user system elapsed getRNASeqData 5.111 0.241 102.168 getGEO 3.680 0.186 40.535 * checking for unstated dependencies in ‘tests’ ... OK * checking tests ... Running ‘testthat.R’ ERROR Running the tests in ‘tests/testthat.R’ failed. Last 13 lines of output: 5. └─GEOquery::getGEOfile(GEO, destdir = destdir, AnnotGPL = AnnotGPL) 6. └─GEOquery:::downloadFile(myurl, destfile, mode = mode, quiet = TRUE) 7. ├─base::tryCatch(...) 8. │ └─base (local) tryCatchList(expr, classes, parentenv, handlers) 9. │ └─base (local) tryCatchOne(expr, names, parentenv, handlers[[1L]]) 10. │ └─base (local) doTryCatch(return(expr), name, parentenv, handler) 11. └─httr2::req_perform(req) 12. └─base::tryCatch(...) 13. └─base (local) tryCatchList(expr, classes, parentenv, handlers) 14. └─base (local) tryCatchOne(expr, names, parentenv, handlers[[1L]]) 15. └─value[[3L]](cond) [ FAIL 1 | WARN 0 | SKIP 0 | PASS 236 ] Error: Test failures Execution halted * checking for unstated dependencies in vignettes ... OK * checking package vignettes ... OK * checking running R code from vignettes ... SKIPPED * checking re-building of vignette outputs ... SKIPPED * checking PDF version of manual ... OK * DONE Status: 1 ERROR, 3 NOTEs See ‘/home/biocbuild/bbs-3.20-bioc/meat/GEOquery.Rcheck/00check.log’ for details.