Package: GEOquery Version: 2.74.0 Command: /home/biocbuild/R/R/bin/R CMD check --install=check:GEOquery.install-out.txt --library=/home/biocbuild/R/R/site-library --no-vignettes --timings GEOquery_2.74.0.tar.gz StartedAt: 2025-02-04 07:24:12 -0000 (Tue, 04 Feb 2025) EndedAt: 2025-02-04 07:37:35 -0000 (Tue, 04 Feb 2025) EllapsedTime: 803.6 seconds RetCode: 1 Status: ERROR CheckDir: GEOquery.Rcheck Warnings: NA