Package: GEOsubmission Version: 1.58.0 Command: /Library/Frameworks/R.framework/Resources/bin/R CMD check --install=check:GEOsubmission.install-out.txt --library=/Library/Frameworks/R.framework/Resources/library --no-vignettes --timings GEOsubmission_1.58.0.tar.gz StartedAt: 2025-02-04 21:13:31 -0500 (Tue, 04 Feb 2025) EndedAt: 2025-02-04 21:14:01 -0500 (Tue, 04 Feb 2025) EllapsedTime: 30.0 seconds RetCode: 0 Status: OK CheckDir: GEOsubmission.Rcheck Warnings: 0