Package: GEOsubmission Version: 1.58.0 Command: /home/biocbuild/R/R/bin/R CMD build --keep-empty-dirs --no-resave-data GEOsubmission StartedAt: 2024-11-20 00:58:57 -0000 (Wed, 20 Nov 2024) EndedAt: 2024-11-20 00:59:05 -0000 (Wed, 20 Nov 2024) EllapsedTime: 8.0 seconds RetCode: 0 Status: OK PackageFile: GEOsubmission_1.58.0.tar.gz PackageFileSize: 186.3 KiB