Package: GEOsubmission Version: 1.58.0 Command: rm -rf GEOsubmission.buildbin-libdir && mkdir GEOsubmission.buildbin-libdir && /Users/biocbuild/BBS/utils/build-universal.sh GEOsubmission_1.58.0.tar.gz /Library/Frameworks/R.framework/Resources/bin/R GEOsubmission.buildbin-libdir StartedAt: 2025-02-04 13:03:01 -0500 (Tue, 04 Feb 2025) EndedAt: 2025-02-04 13:03:11 -0500 (Tue, 04 Feb 2025) EllapsedTime: 10.3 seconds RetCode: 0 Status: OK PackageFile: GEOsubmission_1.58.0.tgz PackageFileSize: 208.6 KiB