Package: GEOsubmission Version: 1.58.0 Command: rm -rf GEOsubmission.buildbin-libdir && mkdir GEOsubmission.buildbin-libdir && F:\biocbuild\bbs-3.20-bioc\R\bin\R.exe CMD INSTALL --build --library=GEOsubmission.buildbin-libdir GEOsubmission_1.58.0.tar.gz StartedAt: 2025-02-04 08:35:53 -0500 (Tue, 04 Feb 2025) EndedAt: 2025-02-04 08:36:01 -0500 (Tue, 04 Feb 2025) EllapsedTime: 8.7 seconds RetCode: 0 Status: OK PackageFile: GEOsubmission_1.58.0.zip PackageFileSize: 101.3 KiB