Package: GEOsubmission Version: 1.58.0 Command: chmod a+r GEOsubmission -R && F:\biocbuild\bbs-3.20-bioc\R\bin\R.exe CMD build --keep-empty-dirs --no-resave-data GEOsubmission StartedAt: 2025-02-03 19:27:01 -0500 (Mon, 03 Feb 2025) EndedAt: 2025-02-03 19:27:32 -0500 (Mon, 03 Feb 2025) EllapsedTime: 31.2 seconds RetCode: 0 Status: OK PackageFile: GEOsubmission_1.58.0.tar.gz PackageFileSize: 79.25 KiB