Package: GEOsubmission Version: 1.58.0 Command: /home/biocbuild/R/R/bin/R CMD build --keep-empty-dirs --no-resave-data GEOsubmission StartedAt: 2025-02-03 23:53:54 -0000 (Mon, 03 Feb 2025) EndedAt: 2025-02-03 23:54:01 -0000 (Mon, 03 Feb 2025) EllapsedTime: 7.0 seconds RetCode: 0 Status: OK PackageFile: GEOsubmission_1.58.0.tar.gz PackageFileSize: 186.3 KiB