Package: GGPA
Version: 1.18.0
Maintainer: Dongjun Chung
MaintainerEmail: dongjun.chung at gmail.com
git_url: https://git.bioconductor.org/packages/GGPA
git_branch: RELEASE_3_20
git_last_commit: bce4fb5
git_last_commit_date: 2024-10-29 10:45:51 -0500 (Tue, 29 Oct 2024)