Package: GGPA Version: 1.18.0 Command: /Library/Frameworks/R.framework/Resources/bin/R CMD build --keep-empty-dirs --no-resave-data GGPA StartedAt: 2025-02-03 19:15:36 -0500 (Mon, 03 Feb 2025) EndedAt: 2025-02-03 19:17:47 -0500 (Mon, 03 Feb 2025) EllapsedTime: 130.7 seconds RetCode: 0 Status: OK PackageFile: GGPA_1.18.0.tar.gz PackageFileSize: 4.712 MiB