Package: GGPA Version: 1.18.0 Command: /home/biocbuild/bbs-3.20-bioc/R/bin/R CMD build --keep-empty-dirs --no-resave-data --md5 GGPA StartedAt: 2025-02-03 17:36:27 -0500 (Mon, 03 Feb 2025) EndedAt: 2025-02-03 17:37:30 -0500 (Mon, 03 Feb 2025) EllapsedTime: 63.1 seconds RetCode: 0 Status: OK PackageFile: GGPA_1.18.0.tar.gz PackageFileSize: 4.713 MiB