Package: GGPA Version: 1.18.0 Command: /home/biocbuild/bbs-3.20-bioc/R/bin/R CMD check --install=check:GGPA.install-out.txt --library=/home/biocbuild/bbs-3.20-bioc/R/site-library --timings GGPA_1.18.0.tar.gz StartedAt: 2025-02-03 22:49:06 -0500 (Mon, 03 Feb 2025) EndedAt: 2025-02-03 22:52:18 -0500 (Mon, 03 Feb 2025) EllapsedTime: 191.3 seconds RetCode: 0 Status: OK CheckDir: GGPA.Rcheck Warnings: 0