Package: GGPA Version: 1.18.0 Command: /home/biocbuild/bbs-3.20-bioc/R/bin/R CMD INSTALL GGPA StartedAt: 2025-02-03 15:22:25 -0500 (Mon, 03 Feb 2025) EndedAt: 2025-02-03 15:22:58 -0500 (Mon, 03 Feb 2025) EllapsedTime: 32.4 seconds RetCode: 0 Status: OK