Package: GGPA
Version: 1.18.0
Command: F:\biocbuild\bbs-3.20-bioc\R\bin\R.exe CMD INSTALL GGPA
StartedAt: 2025-02-17 15:33:46 -0500 (Mon, 17 Feb 2025)
EndedAt: 2025-02-17 15:35:04 -0500 (Mon, 17 Feb 2025)
EllapsedTime: 78.1 seconds
RetCode: 0
Status: OK