Package: GGPA
Version: 1.18.0
Command: /home/biocbuild/bbs-3.20-bioc/R/bin/R CMD INSTALL GGPA
StartedAt: 2024-11-19 15:49:37 -0500 (Tue, 19 Nov 2024)
EndedAt: 2024-11-19 15:50:11 -0500 (Tue, 19 Nov 2024)
EllapsedTime: 33.6 seconds
RetCode: 0
Status: OK