Package: GIGSEA Version: 1.24.0 Command: rm -rf GIGSEA.buildbin-libdir && mkdir GIGSEA.buildbin-libdir && /Users/biocbuild/BBS/utils/build-universal.sh GIGSEA_1.24.0.tar.gz /Library/Frameworks/R.framework/Resources/bin/R GIGSEA.buildbin-libdir StartedAt: 2025-02-05 16:03:57 -0500 (Wed, 05 Feb 2025) EndedAt: 2025-02-05 16:04:06 -0500 (Wed, 05 Feb 2025) EllapsedTime: 9.0 seconds RetCode: 0 Status: OK PackageFile: GIGSEA_1.24.0.tgz PackageFileSize: 1.799 MiB