Package: GIGSEA Version: 1.24.0 Command: /Library/Frameworks/R.framework/Resources/bin/R CMD build --keep-empty-dirs --no-resave-data GIGSEA StartedAt: 2025-02-03 19:16:26 -0500 (Mon, 03 Feb 2025) EndedAt: 2025-02-03 19:22:39 -0500 (Mon, 03 Feb 2025) EllapsedTime: 373.2 seconds RetCode: 0 Status: OK PackageFile: GIGSEA_1.24.0.tar.gz PackageFileSize: 1.325 MiB